BEGIN:VCALENDAR
VERSION:2.0
PRODID:-//wp-events-plugin.com//7.2.3.1//EN
TZID:Europe/Berlin
X-WR-TIMEZONE:Europe/Berlin
BEGIN:VEVENT
UID:16@patrickgranado.de
DTSTART;TZID=Europe/Berlin:20250619T190000
DTEND;TZID=Europe/Berlin:20250619T220000
DTSTAMP:20250218T180349Z
URL:https://patrickgranado.de/events/ludwig-meets-elvis-2025-fuessen/
SUMMARY:Ludwig Meets Elvis
DESCRIPTION:Tickets\n\nDie „Ludwig meets Festspiele“ sind zurück in F
 üssen! Und ein Hauch von Las Vegas weht durch das Festspielhaus: Ludwig m
 eets Elvis! Die Premiere der neuen Show aus der Feder von Dr. Konstantinos
  Kalogeropoulos vereint die schönsten Songs des „Ludwig²“ Musicals u
 nd die größten Hits des King of Rock`n`Roll. \n\nEingängige Liebesballa
 den wie „Das Herz so schwer“ verschmelzen mit „Can`t help fallin`in 
 Love“\, beide Protagonisten treffen sich vor der Palastwand zum „Freun
 dschaftsduett“! Atemberaubende Akrobatik erwartet Sie bei „In the Ghet
 to“ und die herausragende Cast rockt bei „Viva las Vegas“ die Bühne
 ! Mit einem mitreißendem Tanzensemble und der Piano Impact Live Band wird
  die neue „Ludwig meets Show“ zu einem Highlight der Extraklasse! Kön
 iglich! Glamurös! Spektakulär! Einfühlsam! – Ludwig meets Elvis!\n\nC
 opyrights: Veranstalter
ATTACH;FMTTYPE=image/jpeg:https://patrickgranado.de/wp-content/uploads/202
 5/02/EC376BE5-3E19-4990-B176-31225312CB0F.jpeg
LOCATION:https://maps.app.goo.gl/DjcLUBnh54M1ngKT6
END:VEVENT
BEGIN:VTIMEZONE
TZID:Europe/Berlin
X-LIC-LOCATION:Europe/Berlin
BEGIN:DAYLIGHT
DTSTART:20250330T030000
TZOFFSETFROM:+0100
TZOFFSETTO:+0200
TZNAME:CEST
END:DAYLIGHT
END:VTIMEZONE
END:VCALENDAR